BEGIN:VCALENDAR
VERSION:2.0
PRODID:-//Plone.org//NONSGML plone.app.event//EN
X-WR-TIMEZONE:Brazil/East
BEGIN:VEVENT
SUMMARY:Curso: Formação Histórica de Nova Friburgo - Novos Temas e Nova
 s Abordagens
DTSTART;TZID=Brazil/East;VALUE=DATE-TIME:20210913T160000
DTEND;TZID=Brazil/East;VALUE=DATE-TIME:20211001T180000
DTSTAMP;VALUE=DATE-TIME:20260419T232550Z
UID:50d79b5c305c41d2bb51d1b256e44820@www.novafriburgo.rj.leg.br
CONTACT:Pricilla Lopes Matos\, 22 2524-1700 ramal 251\, elenf@novafriburgo
 .rj.leg.br
CREATED;VALUE=DATE-TIME:20210826T175046Z
DESCRIPTION:Formação Histórica de Nova Friburgo - Novos Temas e Novas A
 bordagens. De 13/09/2021 a 01/10/2021\, às segundas\, quartas e sextas-fe
 iras\, das 16h às 18h\, online\, ao vivo.
LAST-MODIFIED;VALUE=DATE-TIME:20210913T191959Z
LOCATION:Online
URL:https://www.novafriburgo.rj.leg.br/institucional/elenf/eventos/curso-f
 ormacao-historica-de-nova-friburgo-novos-temas-e-novas-abordagens
END:VEVENT
BEGIN:VTIMEZONE
TZID:Brazil/East
X-LIC-LOCATION:Brazil/East
BEGIN:STANDARD
DTSTART;VALUE=DATE-TIME:20210220T230000
TZNAME:BRT
TZOFFSETFROM:-0200
TZOFFSETTO:-0300
END:STANDARD
END:VTIMEZONE
END:VCALENDAR
